BEGIN:VCALENDAR
VERSION:2.0
PRODID:-//Roussillon - ECPv5.5.0.1//NONSGML v1.0//EN
CALSCALE:GREGORIAN
METHOD:PUBLISH
X-WR-CALNAME:Roussillon
X-ORIGINAL-URL:https://uk.winesofroussillon.com
X-WR-CALDESC:Events for Roussillon
BEGIN:VTIMEZONE
TZID:Europe/Paris
BEGIN:DAYLIGHT
TZOFFSETFROM:+0100
TZOFFSETTO:+0200
TZNAME:CEST
DTSTART:20210328T010000
END:DAYLIGHT
BEGIN:STANDARD
TZOFFSETFROM:+0200
TZOFFSETTO:+0100
TZNAME:CET
DTSTART:20211031T010000
END:STANDARD
END:VTIMEZONE
BEGIN:VEVENT
DTSTART;TZID=Europe/Paris:20210630T080000
DTEND;TZID=Europe/Paris:20210630T170000
DTSTAMP:20260425T125513
CREATED:20210427T055405Z
LAST-MODIFIED:20250423T162235Z
UID:7416-1625040000-1625072400@uk.winesofroussillon.com
SUMMARY:Roussillon Masterclasses with Rosemary George MW
DESCRIPTION:Master of Wine and writer Rosemary George will present two Roussillon masterclasses exploring the region\, its appellations and its wines. She will present a selection of dry still wines and Vins Doux Naturels (Sweet Fortified Wines) from Roussillon’s 14 AOPs and 2 IGPs. \nCopies of her new book\, Wines of Roussillon\, will be available on the day. \nPlease click here to register.
URL:https://uk.winesofroussillon.com/event/roussillon-masterclasses-with-rosemary-george-mw/
LOCATION:One Great Georges Street\, 1 Great Georges Street\, London\, SW1P 3AA\, United Kingdom
CATEGORIES:happenings
ATTACH;FMTTYPE=image/jpeg:https://uk.winesofroussillon.com/wp-content/uploads/2021/04/Fashion-Event-and-Filming-Venue-One-Great-George-Street-Prestigious-Venues.jpg
ORGANIZER;CN="Wines%20of%20Roussillon":MAILTO:winesofroussillon@otaria.co.uk
END:VEVENT
END:VCALENDAR