BEGIN:VCALENDAR
VERSION:2.0
PRODID:-//Roussillon - ECPv5.5.0.1//NONSGML v1.0//EN
CALSCALE:GREGORIAN
METHOD:PUBLISH
X-WR-CALNAME:Roussillon
X-ORIGINAL-URL:https://uk.winesofroussillon.com
X-WR-CALDESC:Events for Roussillon
BEGIN:VTIMEZONE
TZID:Europe/Paris
BEGIN:DAYLIGHT
TZOFFSETFROM:+0100
TZOFFSETTO:+0200
TZNAME:CEST
DTSTART:20180325T010000
END:DAYLIGHT
BEGIN:STANDARD
TZOFFSETFROM:+0200
TZOFFSETTO:+0100
TZNAME:CET
DTSTART:20181028T010000
END:STANDARD
END:VTIMEZONE
BEGIN:VEVENT
DTSTART;TZID=Europe/Paris:20180305T100000
DTEND;TZID=Europe/Paris:20180306T180000
DTSTAMP:20260425T211039
CREATED:20180302T225207Z
LAST-MODIFIED:20250423T162745Z
UID:6389-1520244000-1520359200@uk.winesofroussillon.com
SUMMARY:Roussillon at Vinexpo New York
DESCRIPTION:Attending Vinexpo New York and looking to find great value wines from the South of France? \nMake sure you meet Roussillon exhibiting producers! \n  \n\n\n\nPARTICIPANTS VINEXPO 2018 NEW YORK\n March 5-6th\n\n\n \n\n\nCOMPANY NAME\nBOOTH #\nLOCATION\n\n\nBernard Magrez Grands Vignobles Du Sud\n325\nRiver Pavilion\n\n\nChâteau De L’ou\n258\nRiver Pavilion\n\n\nLes Vignes Olivier Decelle\n512\nRiver Pavilion\n\n\nM. Chapoutier\n455\nRiver Pavilion
URL:https://uk.winesofroussillon.com/event/roussillon-vinexpo-new-york/
ATTACH;FMTTYPE=image/jpeg:https://uk.winesofroussillon.com/wp-content/uploads/2018/03/VINEXPO_homepage_image.jpg
END:VEVENT
END:VCALENDAR