BEGIN:VCALENDAR
VERSION:2.0
PRODID:-//Roussillon - ECPv5.5.0.1//NONSGML v1.0//EN
CALSCALE:GREGORIAN
METHOD:PUBLISH
X-WR-CALNAME:Roussillon
X-ORIGINAL-URL:https://uk.winesofroussillon.com
X-WR-CALDESC:Events for Roussillon
BEGIN:VTIMEZONE
TZID:Europe/Paris
BEGIN:DAYLIGHT
TZOFFSETFROM:+0100
TZOFFSETTO:+0200
TZNAME:CEST
DTSTART:20170326T010000
END:DAYLIGHT
BEGIN:STANDARD
TZOFFSETFROM:+0200
TZOFFSETTO:+0100
TZNAME:CET
DTSTART:20171029T010000
END:STANDARD
END:VTIMEZONE
BEGIN:VEVENT
DTSTART;TZID=Europe/Paris:20170812T131500
DTEND;TZID=Europe/Paris:20170812T143000
DTSTAMP:20260425T230015
CREATED:20170718T165556Z
LAST-MODIFIED:20250423T162811Z
UID:6273-1502543700-1502548200@uk.winesofroussillon.com
SUMMARY:Roussillon Vins Doux Naturels at the SWE annual conference - Portland\, August 12th
DESCRIPTION:Edward Korry CHE\, CWE\, CSS will lead a seminar on “Dessert Wines: Nectar of the Gods” showcasing 8 wines coming from Spain\, Italy\, France\, Portugal and Greece during the 41st Society of Wine Educators annual conference. A special emphasis will be given to Roussillon Fortified Sweet Wines\, as Edward will share his fresh experience following his visit to Roussillon in June. This will be a unique opportunity for the 75 educators attending the event to learn more about the region that invented the ‘mutage’ process!
URL:https://uk.winesofroussillon.com/event/roussillon-vins-doux-naturels-swe-annual-conference-portland-august-12th/
LOCATION:Red Lion Hotel on the River\, Portland\, OR\, OR\, United States
ATTACH;FMTTYPE=image/jpeg:https://uk.winesofroussillon.com/wp-content/uploads/2017/07/SWE-conference.jpg
END:VEVENT
END:VCALENDAR